BEGIN:VCALENDAR
VERSION:2.0
PRODID:-//Greater Lansing Hispanic Chamber - ECPv6.15.20//NONSGML v1.0//EN
CALSCALE:GREGORIAN
METHOD:PUBLISH
X-ORIGINAL-URL:https://glhchamber.org
X-WR-CALDESC:Events for Greater Lansing Hispanic Chamber
REFRESH-INTERVAL;VALUE=DURATION:PT1H
X-Robots-Tag:noindex
X-PUBLISHED-TTL:PT1H
BEGIN:VTIMEZONE
TZID:UTC
BEGIN:STANDARD
TZOFFSETFROM:+0000
TZOFFSETTO:+0000
TZNAME:UTC
DTSTART:20220101T000000
END:STANDARD
END:VTIMEZONE
BEGIN:VEVENT
DTSTART;TZID=UTC:20230315T090000
DTEND;TZID=UTC:20230315T090000
DTSTAMP:20260419T160529
CREATED:20230217T205511Z
LAST-MODIFIED:20230217T205520Z
UID:567-1678870800-1678870800@glhchamber.org
SUMMARY:Interview Tips Workshop
DESCRIPTION:Learn the language of Interview conversations\, including information on appearance\, question types\, and other tips for success.
URL:https://glhchamber.org/event/interview-tips-workshop-4/
LOCATION:Lansing American Job Center\, 2110 S. Cedar Street Lansing\, MI 48910
ATTACH;FMTTYPE=image/jpeg:https://glhchamber.org/wp-content/uploads/2023/02/EVENT4.jpeg
END:VEVENT
BEGIN:VEVENT
DTSTART;TZID=UTC:20230314T153000
DTEND;TZID=UTC:20230314T153000
DTSTAMP:20260419T160529
CREATED:20230217T205349Z
LAST-MODIFIED:20230217T205358Z
UID:566-1678807800-1678807800@glhchamber.org
SUMMARY:T3 Board Meeting
DESCRIPTION:The Talent District Career Council will meet four times per year on the 2nd Tuesday of each scheduled month at 3:30 p.m. in the Big Three Conference Rooms of the Capital Area Michigan Works! Service Center\, 2110 S. Cedar Street\, Lansing.
URL:https://glhchamber.org/event/t3-board-meeting/
LOCATION:Lansing American Job Center\, 2110 S. Cedar Street Lansing\, MI 48910
ATTACH;FMTTYPE=image/jpeg:https://glhchamber.org/wp-content/uploads/2023/02/EVENT4.jpeg
END:VEVENT
BEGIN:VEVENT
DTSTART;TZID=UTC:20230309T110000
DTEND;TZID=UTC:20230309T110000
DTSTAMP:20260419T160529
CREATED:20230217T204942Z
LAST-MODIFIED:20230217T204950Z
UID:563-1678359600-1678359600@glhchamber.org
SUMMARY:Pure Michigan Talent Connect Worksop
DESCRIPTION:The Talent District Career Council will meet four times per year on the 2nd Tuesday of each scheduled month at 3:30 p.m. in the Big Three Conference Rooms of the Capital Area Michigan Works! Service Center\, 2110 S. Cedar Street\, Lansing.
URL:https://glhchamber.org/event/pure-michigan-talent-connect-worksop-3/
LOCATION:Lansing American Job Center\, 2110 S. Cedar Street Lansing\, MI 48910
ATTACH;FMTTYPE=image/jpeg:https://glhchamber.org/wp-content/uploads/2023/02/EVENT4.jpeg
END:VEVENT
BEGIN:VEVENT
DTSTART;TZID=UTC:20230309T100000
DTEND;TZID=UTC:20230309T113000
DTSTAMP:20260419T160529
CREATED:20230123T212251Z
LAST-MODIFIED:20230123T212320Z
UID:525-1678356000-1678361400@glhchamber.org
SUMMARY:Biz Start 101
DESCRIPTION:The Biz Start 101 workshop is for aspiring entrepreneurs in the beginning stages of starting a business\, in need of accessing capital\, or simply considering self-employment. Assess your abilities to lead and manage a company\, and evaluate market and sales potential for your products/services. \nThis comprehensive workshop incorporates the Michigan Small Business Development Center’s (SBDC) fundamental Writing a Business Plan workshop and fully covers determining concept feasibility\, startup costs\, financing options\, the basics of business planning\, along with other necessary resources to launch. \nThe workshop features instruction by a SBDC Business Consultant and is a prerequisite to meeting with a SBDC consultant one-on-one. The workshop is free ($59 cost is underwritten by the SBDC)\, however registration is required. This course is required for the Business Development Certificate.
URL:https://glhchamber.org/event/biz-start-101/
ATTACH;FMTTYPE=image/webp:https://glhchamber.org/wp-content/uploads/2023/01/servlet-2.webp
END:VEVENT
BEGIN:VEVENT
DTSTART;TZID=UTC:20230308T130000
DTEND;TZID=UTC:20230308T130000
DTSTAMP:20260419T160529
CREATED:20230217T204730Z
LAST-MODIFIED:20230217T204737Z
UID:562-1678280400-1678280400@glhchamber.org
SUMMARY:Resume Basics Workshop
DESCRIPTION:Learn the basic purpose of resumes\, types of resumes\, ONet instruction\, Pure Michigan Talent Connect tips\, MS Word Templates
URL:https://glhchamber.org/event/resume-basics-workshop-3/
LOCATION:Lansing American Job Center\, 2110 S. Cedar Street Lansing\, MI 48910
ATTACH;FMTTYPE=image/jpeg:https://glhchamber.org/wp-content/uploads/2023/02/EVENT4.jpeg
END:VEVENT
BEGIN:VEVENT
DTSTART;TZID=UTC:20230308T110000
DTEND;TZID=UTC:20230308T110000
DTSTAMP:20260419T160529
CREATED:20230217T204611Z
LAST-MODIFIED:20230217T204619Z
UID:561-1678273200-1678273200@glhchamber.org
SUMMARY:Advanced Interviewing Workshop
DESCRIPTION:This workshop picks up where Interview Tips leaves off. A deeper dive into specific common interview questions with answers. Proven strategies for successful interviewing.
URL:https://glhchamber.org/event/advanced-interviewing-workshop-3/
LOCATION:Lansing American Job Center\, 2110 S. Cedar Street Lansing\, MI 48910
ATTACH;FMTTYPE=image/jpeg:https://glhchamber.org/wp-content/uploads/2023/02/EVENT4.jpeg
END:VEVENT
BEGIN:VEVENT
DTSTART;TZID=UTC:20230308T090000
DTEND;TZID=UTC:20230308T103000
DTSTAMP:20260419T160529
CREATED:20230123T212029Z
LAST-MODIFIED:20230123T212029Z
UID:524-1678266000-1678271400@glhchamber.org
SUMMARY:Starting a Business - In Person Event!
DESCRIPTION:This seminar is designed for individuals who are considering self-employment or who may be at the beginning stages of starting a business. It will help aspiring entrepreneurs assess their abilities to lead and manage a company as well as evaluate market and sales potential for their products/services. Start-up costs\, financing options and business planning are introduced\, along with necessary steps to getting started. \nThis is an in-person event! \nSpeaker: Kellie Hanford\, SBDC
URL:https://glhchamber.org/event/starting-a-business-in-person-event-4/
ATTACH;FMTTYPE=image/webp:https://glhchamber.org/wp-content/uploads/2023/01/servlet-4.webp
END:VEVENT
BEGIN:VEVENT
DTSTART;TZID=UTC:20230308T090000
DTEND;TZID=UTC:20230308T090000
DTSTAMP:20260419T160529
CREATED:20230217T204443Z
LAST-MODIFIED:20230217T204451Z
UID:560-1678266000-1678266000@glhchamber.org
SUMMARY:Interview Tips Workshop
DESCRIPTION:Learn the language of Interview conversations\, including information on appearance\, question types\, and other tips for success.
URL:https://glhchamber.org/event/interview-tips-workshop-3/
LOCATION:Lansing American Job Center\, 2110 S. Cedar Street Lansing\, MI 48910
ATTACH;FMTTYPE=image/jpeg:https://glhchamber.org/wp-content/uploads/2023/02/EVENT4.jpeg
END:VEVENT
BEGIN:VEVENT
DTSTART;TZID=UTC:20230307T110000
DTEND;TZID=UTC:20230307T110000
DTSTAMP:20260419T160529
CREATED:20230217T204229Z
LAST-MODIFIED:20230217T204314Z
UID:559-1678186800-1678186800@glhchamber.org
SUMMARY:Professionalism Workshop
DESCRIPTION:Explore appropriate workplace behaviors\, including: communication styles\, office etiquette\, and accepted norms.
URL:https://glhchamber.org/event/professionalism-workshop-3/
LOCATION:Lansing American Job Center\, 2110 S. Cedar Street Lansing\, MI 48910
ATTACH;FMTTYPE=image/jpeg:https://glhchamber.org/wp-content/uploads/2023/02/EVENT4.jpeg
END:VEVENT
BEGIN:VEVENT
DTSTART;TZID=UTC:20230307T100000
DTEND;TZID=UTC:20230307T113000
DTSTAMP:20260419T160529
CREATED:20230123T211758Z
LAST-MODIFIED:20230123T211758Z
UID:523-1678183200-1678188600@glhchamber.org
SUMMARY:Build a Business Website with Weebly - In Person Event!
DESCRIPTION:You want a business website – but have no idea where to start! This presentation will introduce you to Weebly\, a tool with an easy drag-and-drop interface. You’ll learn the basics of creating your website\, obtaining your own web address\, and what a typical business website should include. (Why Weebly – there is a completely free\, ad-supported version available. You may also want to check-out the April 11 program on using Shopify.) \nThis is an in-person event! \nSpeaker: Jessica Goodrich\, Capital Area District Library
URL:https://glhchamber.org/event/build-a-business-website-with-weebly-in-person-event/
ATTACH;FMTTYPE=image/webp:https://glhchamber.org/wp-content/uploads/2023/01/servlet-4.webp
END:VEVENT
BEGIN:VEVENT
DTSTART;TZID=UTC:20230307T090000
DTEND;TZID=UTC:20230307T090000
DTSTAMP:20260419T160529
CREATED:20230217T204043Z
LAST-MODIFIED:20230217T204053Z
UID:558-1678179600-1678179600@glhchamber.org
SUMMARY:First Things First Workshop
DESCRIPTION:This workshop assists the job seekers in orienting themselves to the job search & career planning. Time is spent with instruction on how to use a flash drive. Basic hygiene is also discussed with reasons not to wear perfume or after shave. The O* Net Interest Profiler as an aid to career planning will be featured. The advantages of the use of a professional email address for job seeking video will be shown. The class is interactive rather than straight lecture format. Questions are welcomed throughout.
URL:https://glhchamber.org/event/first-things-first-workshop-3/
LOCATION:Lansing American Job Center\, 2110 S. Cedar Street Lansing\, MI 48910
ATTACH;FMTTYPE=image/jpeg:https://glhchamber.org/wp-content/uploads/2023/02/EVENT4.jpeg
END:VEVENT
BEGIN:VEVENT
DTSTART;TZID=UTC:20230301T130000
DTEND;TZID=UTC:20230301T130000
DTSTAMP:20260419T160529
CREATED:20230217T201917Z
LAST-MODIFIED:20230217T201926Z
UID:554-1677675600-1677675600@glhchamber.org
SUMMARY:Resume Basics Workshop
DESCRIPTION:Learn the basic purpose of resumes\, types of resumes\, ONet instruction\, Pure Michigan Talent Connect tips\, MS Word Templates
URL:https://glhchamber.org/event/resume-basics-workshop-2/
LOCATION:Lansing American Job Center\, 2110 S. Cedar Street Lansing\, MI 48910
ATTACH;FMTTYPE=image/jpeg:https://glhchamber.org/wp-content/uploads/2023/02/EVENT4.jpeg
END:VEVENT
BEGIN:VEVENT
DTSTART;TZID=UTC:20230301T100000
DTEND;TZID=UTC:20230301T100000
DTSTAMP:20260419T160529
CREATED:20230217T201748Z
LAST-MODIFIED:20230217T201756Z
UID:553-1677664800-1677664800@glhchamber.org
SUMMARY:Advanced Interviewing Workshop
DESCRIPTION:This workshop picks up where Interview Tips leaves off. A deeper dive into specific common interview questions with answers. Proven strategies for successful interviewing.
URL:https://glhchamber.org/event/advanced-interviewing-workshop-2/
LOCATION:Lansing American Job Center\, 2110 S. Cedar Street Lansing\, MI 48910
ATTACH;FMTTYPE=image/jpeg:https://glhchamber.org/wp-content/uploads/2023/02/EVENT4.jpeg
END:VEVENT
BEGIN:VEVENT
DTSTART;TZID=UTC:20230301T090000
DTEND;TZID=UTC:20230301T090000
DTSTAMP:20260419T160529
CREATED:20230217T201615Z
LAST-MODIFIED:20230217T201622Z
UID:552-1677661200-1677661200@glhchamber.org
SUMMARY:Interview Tips Workshop
DESCRIPTION:Learn the language of Interview conversations\, including information on appearance\, question types\, and other tips for success.
URL:https://glhchamber.org/event/interview-tips-workshop-2/
LOCATION:Lansing American Job Center\, 2110 S. Cedar Street Lansing\, MI 48910
ATTACH;FMTTYPE=image/jpeg:https://glhchamber.org/wp-content/uploads/2023/02/EVENT4.jpeg
END:VEVENT
BEGIN:VEVENT
DTSTART;TZID=UTC:20230228T110000
DTEND;TZID=UTC:20230228T110000
DTSTAMP:20260419T160529
CREATED:20230217T201425Z
LAST-MODIFIED:20230217T201438Z
UID:550-1677582000-1677582000@glhchamber.org
SUMMARY:Professionalism Workshop
DESCRIPTION:Explore appropriate workplace behaviors\, including: communication styles\, office etiquette\, and accepted norms.
URL:https://glhchamber.org/event/professionalism-workshop-2/
LOCATION:Lansing American Job Center\, 2110 S. Cedar Street Lansing\, MI 48910
ATTACH;FMTTYPE=image/jpeg:https://glhchamber.org/wp-content/uploads/2023/02/EVENT4.jpeg
END:VEVENT
BEGIN:VEVENT
DTSTART;TZID=UTC:20230228T090000
DTEND;TZID=UTC:20230228T090000
DTSTAMP:20260419T160529
CREATED:20230217T200948Z
LAST-MODIFIED:20230217T200956Z
UID:548-1677574800-1677574800@glhchamber.org
SUMMARY:First Things First Workshop
DESCRIPTION:This workshop assists the job seekers in orienting themselves to the job search & career planning. Time is spent with instruction on how to use a flash drive. Basic hygiene is also discussed with reasons not to wear perfume or after shave. The O* Net Interest Profiler as an aid to career planning will be featured. The advantages of the use of a professional email address for job seeking video will be shown. The class is interactive rather than straight lecture format. Questions are welcomed throughout.
URL:https://glhchamber.org/event/first-things-first-workshop-2/
LOCATION:Lansing American Job Center\, 2110 S. Cedar Street Lansing\, MI 48910
ATTACH;FMTTYPE=image/jpeg:https://glhchamber.org/wp-content/uploads/2023/02/EVENT4.jpeg
END:VEVENT
BEGIN:VEVENT
DTSTART;TZID=UTC:20230227T170000
DTEND;TZID=UTC:20230227T180000
DTSTAMP:20260419T160529
CREATED:20230123T211606Z
LAST-MODIFIED:20230123T211606Z
UID:522-1677517200-1677520800@glhchamber.org
SUMMARY:From WMU Football to Aspiring Developer. My Story
DESCRIPTION:Starting Gate Speakers Series – \nFrom WMU Football to Aspiring Developer. My Story. \nJamauri Bogan
URL:https://glhchamber.org/event/from-wmu-football-to-aspiring-developer-my-story/
ATTACH;FMTTYPE=image/webp:https://glhchamber.org/wp-content/uploads/2023/01/servlet.webp
END:VEVENT
BEGIN:VEVENT
DTSTART;TZID=UTC:20230227T090000
DTEND;TZID=UTC:20230227T090000
DTSTAMP:20260419T160529
CREATED:20230217T200742Z
LAST-MODIFIED:20230217T200752Z
UID:546-1677488400-1677488400@glhchamber.org
SUMMARY:Advance Employment\, Employer of the Day
DESCRIPTION:A representative from Advance Employment will be at Capital Area Michigan Works! American Job Center in St. Johns from 9 am to 1 pm. Stop by to learn more about career opportunities with Advance Employment. See also job code # 95102640\, 95103178\, 95103192\, 95103195 on www.mitalent.org
URL:https://glhchamber.org/event/advance-employment-employer-of-the-day/
LOCATION:St. Johns American Job Center\, 1501 Glastonbury Dr. St. Johns\, MI 48879
ATTACH;FMTTYPE=image/jpeg:https://glhchamber.org/wp-content/uploads/2023/02/EVENT4.jpeg
END:VEVENT
BEGIN:VEVENT
DTSTART;TZID=UTC:20230223T140000
DTEND;TZID=UTC:20230223T150000
DTSTAMP:20260419T160529
CREATED:20230123T211420Z
LAST-MODIFIED:20230123T211420Z
UID:521-1677160800-1677164400@glhchamber.org
SUMMARY:Franchise Businesses for Snowbirds - Webinar
DESCRIPTION:location_on \nSBDC Webinar\n\n\nThu\, February 23\, 2023\, 2:00 PM ET\nThu\, February 23\, 2023\, 3:00 PM ET\n\n\nNot all businesses require you to be in the market year round for operations. There are certain models out there that focus on seasonal services that you can explore. This webinar will include a panel of franchise opportunities that have seasonal opportunities\, and help you consider seasonal franchise options for small business ownership. \nPresenter \nBrigitte Betser \nFranchise Consultant \nFranNet of Michigan \n• We will be unable to provide technical assistance for accessing the webinar beginning 30 minutes prior to the start of the webinar. \n• This webinar will take place using GoToWebinar. If you have not used GoToWebinar before\, and/or would like to check the compatibility of your computer/mobile device with GoToWebinar\, please visit https://support.goto.com/webinar/system-check-attendee. \n• Reasonable accommodations for persons with disabilities will be made if requested in advance. \nPoint of Contact for this Webinar: \nIan Rogers \nTraining Manager – Michigan SBDC \nrogersia@gvsu.edu
URL:https://glhchamber.org/event/franchise-businesses-for-snowbirds-webinar/
ATTACH;FMTTYPE=image/webp:https://glhchamber.org/wp-content/uploads/2023/01/servlet-1.webp
END:VEVENT
BEGIN:VEVENT
DTSTART;TZID=UTC:20230223T110000
DTEND;TZID=UTC:20230223T120000
DTSTAMP:20260419T160529
CREATED:20230123T211251Z
LAST-MODIFIED:20230123T211251Z
UID:519-1677150000-1677153600@glhchamber.org
SUMMARY:Small Business Cyber Security Resources for 2023 - Webinar
DESCRIPTION:ocation_on \nSBDC Webinar\n\n\nThu\, February 23\, 2023\, 11:00 AM ET\nThu\, February 23\, 2023\, 12:00 PM ET\n\n\nJoin us for a conversation about cyber security resources for small businesses in 2023. You will receive updates on new services for your small business\, tips and tricks for keeping your small business safe\, and have opportunities to ask questions of the cyber security experts. This webinar is hosted in collaboration with the U.S. Small Business Administration. \nPresenters: \nScott Taber – Systems Administrator and Cyber Security Specialist\, MI-SBDC \nJennifer Swift – Outreach and Marketing Specialist – Michigan District Office – U.S. Small Business Administration \nAdditional panelists to be announced \n• We will be unable to provide technical assistance for accessing the webinar beginning 30 minutes prior to the start of the webinar. \n• This webinar will take place using GoToWebinar. If you have not used GoToWebinar before\, and/or would like to check the compatibility of your computer/mobile device with GoToWebinar\, please visit https://support.goto.com/webinar/system-check-attendee. \n• Reasonable accommodations for persons with disabilities will be made if requested in advance. \nPoint of Contact for this Webinar: \nIan Rogers \nTraining Manager – Michigan SBDC \nrogersia@gvsu.edu
URL:https://glhchamber.org/event/small-business-cyber-security-resources-for-2023-webinar/
ATTACH;FMTTYPE=image/webp:https://glhchamber.org/wp-content/uploads/2023/01/servlet-10.webp
END:VEVENT
BEGIN:VEVENT
DTSTART;TZID=UTC:20230223T110000
DTEND;TZID=UTC:20230223T114500
DTSTAMP:20260419T160529
CREATED:20230217T195808Z
LAST-MODIFIED:20230217T195947Z
UID:544-1677150000-1677152700@glhchamber.org
SUMMARY:How Your Experience Can Gain You College Credit
DESCRIPTION:LCC acknowledges that vital learning takes place outside of the classroom. You can now leverage your professional experiences to earn credit for what you have learned. \nEarning Prior Learning credits can reduce the time involved in earning your degree and save you money. The more Prior Learning credits you earn\, the fewer courses required in order to complete your degree and/or license/certification. \nHosted by Lansing Community College Job Training Center \nTechnology Room
URL:https://glhchamber.org/event/how-your-experience-can-gain-you-college-credit/
LOCATION:Lansing American Job Center\, 2110 S. Cedar Street Lansing\, MI 48910
ATTACH;FMTTYPE=image/jpeg:https://glhchamber.org/wp-content/uploads/2023/02/EVENT4.jpeg
END:VEVENT
BEGIN:VEVENT
DTSTART;TZID=UTC:20230223T110000
DTEND;TZID=UTC:20230223T110000
DTSTAMP:20260419T160529
CREATED:20230217T200229Z
LAST-MODIFIED:20230217T200242Z
UID:545-1677150000-1677150000@glhchamber.org
SUMMARY:Pure Michigan Talent Connect Worksop
DESCRIPTION:This workshop details the process of PMTC (Pure Michigan Talent Connect) account creation\, production of a resume to upload for job search purposes\, and some basic tips for job seekers to learn more about using web resources effectively.
URL:https://glhchamber.org/event/pure-michigan-talent-connect-worksop/
ATTACH;FMTTYPE=image/jpeg:https://glhchamber.org/wp-content/uploads/2023/02/EVENT4.jpeg
END:VEVENT
BEGIN:VEVENT
DTSTART;TZID=UTC:20230223T100000
DTEND;TZID=UTC:20230223T100000
DTSTAMP:20260419T160529
CREATED:20230217T195635Z
LAST-MODIFIED:20230217T195642Z
UID:543-1677146400-1677146400@glhchamber.org
SUMMARY:Community Mental Health\, Employer of the Day
DESCRIPTION:A representative from Community Mental Health will be at Capital Area Michigan Works! American Job Center in Lansing from 10am to 2pm. Stop by to learn more about career opportunities with Community Mental Health . See also job code #104477032 on www.mitalent.org
URL:https://glhchamber.org/event/community-mental-health-employer-of-the-day/
LOCATION:Lansing American Job Center\, 2110 S. Cedar Street Lansing\, MI 48910
ATTACH;FMTTYPE=image/jpeg:https://glhchamber.org/wp-content/uploads/2023/02/EVENT4.jpeg
END:VEVENT
BEGIN:VEVENT
DTSTART;TZID=UTC:20230222T140000
DTEND;TZID=UTC:20230222T150000
DTSTAMP:20260419T160529
CREATED:20230123T210627Z
LAST-MODIFIED:20230123T211048Z
UID:517-1677074400-1677078000@glhchamber.org
SUMMARY:Franchise Options for Tough Labor Markets - Webinar
DESCRIPTION:location_on \nSBDC Webinar\n\n\nWed\, February 22\, 2023\, 2:00 PM ET\nWed\, February 22\, 2023\, 3:00 PM ET\n\n\nDon’t let tough labor markets stop you from business ownership. Join us for an overview of industries and franchises which might be options to explore if you are concerned about finding labor for your franchise business. A panel of franchisors that have models like this will discuss how and why the models work in tight labor markets. \nPresenter \nBrigitte Betser \nFranchise Consultant \nFranNet of Michigan \n• We will be unable to provide technical assistance for accessing the webinar beginning 30 minutes prior to the start of the webinar. \n• This webinar will take place using GoToWebinar. If you have not used GoToWebinar before\, and/or would like to check the compatibility of your computer/mobile device with GoToWebinar\, please visit https://support.goto.com/webinar/system-check-attendee. \n• Reasonable accommodations for persons with disabilities will be made if requested in advance. \nPoint of Contact for this Webinar: \nIan Rogers \nTraining Manager – Michigan SBDC \nrogersia@gvsu.edu
URL:https://glhchamber.org/event/franchise-options-for-tough-labor-markets-webinar/
ATTACH;FMTTYPE=image/webp:https://glhchamber.org/wp-content/uploads/2023/01/servlet-1.webp
END:VEVENT
BEGIN:VEVENT
DTSTART;TZID=UTC:20230222T130000
DTEND;TZID=UTC:20230222T130000
DTSTAMP:20260419T160529
CREATED:20230217T195452Z
LAST-MODIFIED:20230217T195459Z
UID:542-1677070800-1677070800@glhchamber.org
SUMMARY:Resume Basics Workshop
DESCRIPTION:Learn the basic purpose of resumes\, types of resumes\, ONet instruction\, Pure Michigan Talent Connect tips\, MS Word Templates
URL:https://glhchamber.org/event/resume-basics-workshop/
LOCATION:Lansing American Job Center\, 2110 S. Cedar Street Lansing\, MI 48910
ATTACH;FMTTYPE=image/jpeg:https://glhchamber.org/wp-content/uploads/2023/02/EVENT4.jpeg
END:VEVENT
BEGIN:VEVENT
DTSTART;TZID=UTC:20230222T120000
DTEND;TZID=UTC:20230222T130000
DTSTAMP:20260419T160529
CREATED:20230123T210205Z
LAST-MODIFIED:20230123T210205Z
UID:515-1677067200-1677070800@glhchamber.org
SUMMARY:The Secrets of Writing a Good Business Plan 12pm ET / 11am CT
DESCRIPTION:Wed\, February 22\, 2023\, 12:00 PM ET\nWed\, February 22\, 2023\, 1:00 PM ET\n\n\nLearn the important elements of writing your business description\, determining your products & services\, and choosing the right location for your small business.
URL:https://glhchamber.org/event/the-secrets-of-writing-a-good-business-plan-12pm-et-11am-ct/
ATTACH;FMTTYPE=image/webp:https://glhchamber.org/wp-content/uploads/2023/01/servlet-9.webp
END:VEVENT
BEGIN:VEVENT
DTSTART;TZID=UTC:20230222T113000
DTEND;TZID=UTC:20230222T123000
DTSTAMP:20260419T160529
CREATED:20230217T195328Z
LAST-MODIFIED:20230217T195328Z
UID:541-1677065400-1677069000@glhchamber.org
SUMMARY:Introduction to Computers: Computer Basics & Internet Safety
DESCRIPTION:This workshop is designed for those who want to learn the basics of operating a computer and to cruise the web safely. \n  \nHosted by Lansing Community College Job Training Center \nTechnology Room
URL:https://glhchamber.org/event/introduction-to-computers-computer-basics-internet-safety/
ATTACH;FMTTYPE=image/jpeg:https://glhchamber.org/wp-content/uploads/2023/02/EVENT4.jpeg
END:VEVENT
BEGIN:VEVENT
DTSTART;TZID=UTC:20230222T100000
DTEND;TZID=UTC:20230222T130000
DTSTAMP:20260419T160529
CREATED:20230123T205924Z
LAST-MODIFIED:20230123T205924Z
UID:513-1677060000-1677070800@glhchamber.org
SUMMARY:Michigan SBDC’s Early Export Assistance Program
DESCRIPTION:Are you ready to increase your sales by diversifying into foreign markets? If so\, please join us at this in person event where we’ll be discussing the MI SBDC\, MEDC and SBA’s export assistance programs. We’ll also have Michigan Works! on hand to review the great programs they have to help get your staff trained for exporting. \nYou will learn about how we can; help you improve your websites with International Search Engine Optimizations (I-SEO)\, financially prepare your company to budget for expanding into foreign markets\, prepare you to access STEP funds and services through the MEDC and SBA\, explore markets that are ripe for your products or services and a whole lot more! \nWe’ll also have a panel discussion at the end of the presentation that will have representatives from SBDC\, MEDC and the SBA\, to answer any of those burning Export question. Finally\, we’ll be providing networking with lunch and to finish off the event.
URL:https://glhchamber.org/event/michigan-sbdcs-early-export-assistance-program/
ATTACH;FMTTYPE=image/webp:https://glhchamber.org/wp-content/uploads/2023/01/uc_id1-hI8a8ZkvlSgHNuba2HPIdURajOrwrJc.webp
END:VEVENT
BEGIN:VEVENT
DTSTART;TZID=UTC:20230222T100000
DTEND;TZID=UTC:20230222T100000
DTSTAMP:20260419T160529
CREATED:20230217T195115Z
LAST-MODIFIED:20230217T195121Z
UID:540-1677060000-1677060000@glhchamber.org
SUMMARY:Advanced Interviewing Workshop
DESCRIPTION:This workshop picks up where Interview Tips leaves off. A deeper dive into specific common interview questions with answers. Proven strategies for successful interviewing.
URL:https://glhchamber.org/event/advanced-interviewing-workshop/
LOCATION:Lansing American Job Center\, 2110 S. Cedar Street Lansing\, MI 48910
ATTACH;FMTTYPE=image/jpeg:https://glhchamber.org/wp-content/uploads/2023/02/EVENT4.jpeg
END:VEVENT
BEGIN:VEVENT
DTSTART;TZID=UTC:20230222T090000
DTEND;TZID=UTC:20230222T090000
DTSTAMP:20260419T160529
CREATED:20230217T194849Z
LAST-MODIFIED:20230217T194858Z
UID:539-1677056400-1677056400@glhchamber.org
SUMMARY:Interview Tips Workshop
DESCRIPTION:Learn the language of Interview conversations\, including information on appearance\, question types\, and other tips for success.
URL:https://glhchamber.org/event/interview-tips-workshop/
LOCATION:Lansing American Job Center\, 2110 S. Cedar Street Lansing\, MI 48910
ATTACH;FMTTYPE=image/jpeg:https://glhchamber.org/wp-content/uploads/2023/02/EVENT4.jpeg
END:VEVENT
END:VCALENDAR