BEGIN:VCALENDAR
VERSION:2.0
PRODID:-//Greater Lansing Hispanic Chamber - ECPv6.15.20//NONSGML v1.0//EN
CALSCALE:GREGORIAN
METHOD:PUBLISH
X-ORIGINAL-URL:https://glhchamber.org
X-WR-CALDESC:Events for Greater Lansing Hispanic Chamber
REFRESH-INTERVAL;VALUE=DURATION:PT1H
X-Robots-Tag:noindex
X-PUBLISHED-TTL:PT1H
BEGIN:VTIMEZONE
TZID:UTC
BEGIN:STANDARD
TZOFFSETFROM:+0000
TZOFFSETTO:+0000
TZNAME:UTC
DTSTART:20210101T000000
END:STANDARD
END:VTIMEZONE
BEGIN:VEVENT
DTSTART;TZID=UTC:20230123T160000
DTEND;TZID=UTC:20230123T180000
DTSTAMP:20260420T032518
CREATED:20221214T003051Z
LAST-MODIFIED:20221214T003051Z
UID:385-1674489600-1674496800@glhchamber.org
SUMMARY:Oakland Region Owner2Owner Meeting
DESCRIPTION:Join us on January 23rd for a regional Owner2Owner (O2O) at Fountains Golf & Banquet that will include a Meet your Legislator Panel with Senator Runestad for the first hour. \nThese O2O Regional Meetings are for small business owners only. They allow small business owners to build a sense of community in their region and gather together with other small business owners. Each regional meeting will feature components of education\, small business advocacy awareness and networking. You do not have to be a member of SBAM to attend this meeting. \nRegistration Coming Soon!
URL:https://glhchamber.org/event/oakland-region-owner2owner-meeting/
ATTACH;FMTTYPE=image/png:https://glhchamber.org/wp-content/uploads/2022/12/OwnertoOwner-Logo_1-1024x493-1.png
END:VEVENT
BEGIN:VEVENT
DTSTART;TZID=UTC:20230123T150000
DTEND;TZID=UTC:20230123T153000
DTSTAMP:20260420T032518
CREATED:20221214T002924Z
LAST-MODIFIED:20221214T002924Z
UID:384-1674486000-1674487800@glhchamber.org
SUMMARY:The Small Business Briefing
DESCRIPTION:The Small Business Briefing airs Mondays at 3pm ET. Watch to get the latest news from SBAM’s Brian Calley and Sarah Miller\, along with special guests!\n\n\n\n\n\nWatch live on Facebook or register to watch via Zoom.
URL:https://glhchamber.org/event/the-small-business-briefing-8/
ATTACH;FMTTYPE=image/png:https://glhchamber.org/wp-content/uploads/2022/12/MicrosoftTeams-image-38.png
END:VEVENT
BEGIN:VEVENT
DTSTART;TZID=UTC:20230123T080000
DTEND;TZID=UTC:20230123T170000
DTSTAMP:20260420T032518
CREATED:20230123T194054Z
LAST-MODIFIED:20230123T194054Z
UID:467-1674460800-1674493200@glhchamber.org
SUMMARY:Starting A Business - Webinar
DESCRIPTION:cation_on \nSBDC Webinar\n\n\nTue\, January 24\, 2023\, 12:00 PM ET\nTue\, January 24\, 2023\, 1:30 PM ET\n\n\nThis 90-minute webinar will include approximately 60 minutes of presentation\, with approximately 30 minutes of time throughout the webinar for Q&A. \nAre you considering self-employment\, or at the beginning stages of starting a business? \nJoin us for a one-hour long accelerated walkthrough of our “Starting A Business” course. \nThis introductory webinar covers the process of evaluating market potential for your products or services\, startup costs and financing options\, plus initial steps for writing a business plan. \nNote: This webinar does not cover in-depth information on forming a legal entity or taxes. If you would like more education on these topics\, please visit https://michigansbdc.org/get-started/training-events/ and find webinars\, workshops\, and on-demand content related to taxes\, legal entities\, etc. \n• We will be unable to provide technical assistance for accessing the webinar beginning 30 minutes prior to the start of the webinar. \n• This webinar will take place using GoToWebinar. If you have not used GoToWebinar before\, and/or would like to check the compatibility of your computer/mobile device with GoToWebinar\, please visit https://support.goto.com/webinar/system-check-attendee. \n• Reasonable accommodations for persons with disabilities will be made if requested in advance. \nPoint of Contact for this Webinar: \nIan Rogers \nTraining Manager – Michigan SBDC \nrogersia@gvsu.edu
URL:https://glhchamber.org/event/starting-a-business-webinar/
END:VEVENT
BEGIN:VEVENT
DTSTART;TZID=UTC:20230119T150000
DTEND;TZID=UTC:20230119T153000
DTSTAMP:20260420T032518
CREATED:20221214T002846Z
LAST-MODIFIED:20221214T002846Z
UID:383-1674140400-1674142200@glhchamber.org
SUMMARY:The Small Business Briefing
DESCRIPTION:The Small Business Briefing airs Mondays at 3pm ET. Watch to get the latest news from SBAM’s Brian Calley and Sarah Miller\, along with special guests!\n\n\n\n\n\nWatch live on Facebook or register to watch via Zoom.
URL:https://glhchamber.org/event/the-small-business-briefing-7/
ATTACH;FMTTYPE=image/png:https://glhchamber.org/wp-content/uploads/2022/12/MicrosoftTeams-image-38.png
END:VEVENT
BEGIN:VEVENT
DTSTART;TZID=UTC:20230118T130000
DTEND;TZID=UTC:20230118T140000
DTSTAMP:20260420T032518
CREATED:20221214T002808Z
LAST-MODIFIED:20221214T002808Z
UID:381-1674046800-1674050400@glhchamber.org
SUMMARY:Pooled Employer Retirement Plan
DESCRIPTION:Attract & Retain Talented Employees with an Employer-Sponsored Retirement Plan \nSBAM understands what small businesses dislike about 401(k) plans – the cost\, the time\, and really not understanding your fiduciary responsibilities.  The SECURE Act allows employers from all industries and sizes to band together to create a new type of retirement plan:  Pooled Employer Plan (PEP). Employers may now participate in a PEP instead of sponsoring a traditional 401(k) plan. \nThe SBAM Pooled Employer Retirement Plan solves small businesses’ challenges when offering a retirement plan. The SBAM PEP is cost-effective and outsources administration and liability. Advantages include: \n\nStart-up plans may be eligible for up to $5\,000 tax credit to cover the TAG annual administrative fee (for 3 years).\nAdditional $500 annual credit for three years when a business establishes a retirement plan with automatic enrollment.\nNo initial set-up fees.\n\nJoin us as we review details about the program and answer all of your questions. \nRegister Now
URL:https://glhchamber.org/event/pooled-employer-retirement-plan/
ATTACH;FMTTYPE=image/jpeg:https://glhchamber.org/wp-content/uploads/2022/12/New-design-webinar-promos-6-e1669656530110.jpg
END:VEVENT
BEGIN:VEVENT
DTSTART;TZID=UTC:20230116T150000
DTEND;TZID=UTC:20230116T153000
DTSTAMP:20260420T032518
CREATED:20221214T002555Z
LAST-MODIFIED:20221214T002555Z
UID:380-1673881200-1673883000@glhchamber.org
SUMMARY:The Small Business Briefing
DESCRIPTION:The Small Business Briefing airs Mondays at 3pm ET. Watch to get the latest news from SBAM’s Brian Calley and Sarah Miller\, along with special guests!\n\n\n\n\n\nWatch live on Facebook or register to watch via Zoom.
URL:https://glhchamber.org/event/the-small-business-briefing-6/
ATTACH;FMTTYPE=image/png:https://glhchamber.org/wp-content/uploads/2022/12/MicrosoftTeams-image-38.png
END:VEVENT
BEGIN:VEVENT
DTSTART;TZID=UTC:20230112T150000
DTEND;TZID=UTC:20230112T153000
DTSTAMP:20260420T032518
CREATED:20221214T002520Z
LAST-MODIFIED:20221214T002520Z
UID:379-1673535600-1673537400@glhchamber.org
SUMMARY:The Small Business Briefing
DESCRIPTION:The Small Business Briefing airs Mondays at 3pm ET. Watch to get the latest news from SBAM’s Brian Calley and Sarah Miller\, along with special guests!\n\n\n\n\n\nWatch live on Facebook or register to watch via Zoom.
URL:https://glhchamber.org/event/the-small-business-briefing-5/
ATTACH;FMTTYPE=image/png:https://glhchamber.org/wp-content/uploads/2022/12/MicrosoftTeams-image-38.png
END:VEVENT
BEGIN:VEVENT
DTSTART;TZID=UTC:20230111T160000
DTEND;TZID=UTC:20230111T180000
DTSTAMP:20260420T032518
CREATED:20221214T001446Z
LAST-MODIFIED:20221214T001527Z
UID:374-1673452800-1673460000@glhchamber.org
SUMMARY:Great Lakes Bay Region Owner2Owner Meeting
DESCRIPTION:Join us on January 11th for a regional Owner2Owner (O2O) at Creation Coffee in Midland! \nThese O2O Regional Meetings are for small business owners only. They allow small business owners to build a sense of community in their region and gather together with other small business owners. Each regional meeting will feature components of education\, small business advocacy awareness and networking. You do not have to be a member of SBAM to attend this meeting. \nRegister Here!
URL:https://glhchamber.org/event/great-lakes-bay-region-owner2owner-meeting/
ATTACH;FMTTYPE=image/png:https://glhchamber.org/wp-content/uploads/2022/12/OwnertoOwner-Logo_1-1024x493-1.png
END:VEVENT
BEGIN:VEVENT
DTSTART;TZID=UTC:20230109T150000
DTEND;TZID=UTC:20230109T153000
DTSTAMP:20260420T032518
CREATED:20221214T001103Z
LAST-MODIFIED:20221214T002326Z
UID:373-1673276400-1673278200@glhchamber.org
SUMMARY:The Small Business Briefing
DESCRIPTION:The Small Business Briefing airs Mondays at 3pm ET. Watch to get the latest news from SBAM’s Brian Calley and Sarah Miller\, along with special guests!\n\n\n\n\n\nWatch live on Facebook or register to watch via Zoom.
URL:https://glhchamber.org/event/the-small-business-briefing-4/
ATTACH;FMTTYPE=image/png:https://glhchamber.org/wp-content/uploads/2022/12/MicrosoftTeams-image-38.png
END:VEVENT
BEGIN:VEVENT
DTSTART;TZID=UTC:20230105T150000
DTEND;TZID=UTC:20230105T153000
DTSTAMP:20260420T032518
CREATED:20221214T001013Z
LAST-MODIFIED:20221214T001825Z
UID:372-1672930800-1672932600@glhchamber.org
SUMMARY:The Small Business Briefing
DESCRIPTION:The Small Business Briefing airs Mondays at 3pm ET. Watch to get the latest news from SBAM’s Brian Calley and Sarah Miller\, along with special guests!\n\n\n\n\n\nWatch live on Facebook or register to watch via Zoom.
URL:https://glhchamber.org/event/the-small-business-briefing-3/
ATTACH;FMTTYPE=image/png:https://glhchamber.org/wp-content/uploads/2022/12/MicrosoftTeams-image-38.png
END:VEVENT
BEGIN:VEVENT
DTSTART;TZID=UTC:20221219T150000
DTEND;TZID=UTC:20221219T153000
DTSTAMP:20260420T032518
CREATED:20221214T000827Z
LAST-MODIFIED:20221214T001839Z
UID:370-1671462000-1671463800@glhchamber.org
SUMMARY:The Small Business Briefing
DESCRIPTION:The Small Business Briefing airs Mondays at 3pm ET. Watch to get the latest news from SBAM’s Brian Calley and Sarah Miller\, along with special guests!\n\n\n\n\n\nWatch live on Facebook or register to watch via Zoom.
URL:https://glhchamber.org/event/the-small-business-briefing-2/
ATTACH;FMTTYPE=image/png:https://glhchamber.org/wp-content/uploads/2022/12/MicrosoftTeams-image-38.png
END:VEVENT
BEGIN:VEVENT
DTSTART;TZID=UTC:20221215T150000
DTEND;TZID=UTC:20221215T153000
DTSTAMP:20260420T032518
CREATED:20221213T233704Z
LAST-MODIFIED:20221214T001858Z
UID:362-1671116400-1671118200@glhchamber.org
SUMMARY:The Small Business Briefing
DESCRIPTION:The Small Business Briefing airs Mondays at 3pm ET. Watch to get the latest news from SBAM’s Brian Calley and Sarah Miller\, along with special guests!\n\n\n\n\n\nWatch live on Facebook or register to watch via Zoom.
URL:https://glhchamber.org/event/the-small-business-briefing/
ATTACH;FMTTYPE=image/png:https://glhchamber.org/wp-content/uploads/2022/12/MicrosoftTeams-image-38.png
END:VEVENT
BEGIN:VEVENT
DTSTART;TZID=UTC:20221214T173000
DTEND;TZID=UTC:20221214T193000
DTSTAMP:20260420T032518
CREATED:20221213T125331Z
LAST-MODIFIED:20221213T215135Z
UID:317-1671039000-1671046200@glhchamber.org
SUMMARY:A professionally fun happy hour
DESCRIPTION:
URL:https://glhchamber.org/event/a-professionally-fun-happy-hour/
ATTACH;FMTTYPE=image/jpeg:https://glhchamber.org/wp-content/uploads/2022/12/315982075_799677291392403_6142634616950872976_n.jpg
END:VEVENT
END:VCALENDAR